BEGIN:VCALENDAR
VERSION:2.0
PRODID:-//Rangeford Villages - ECPv6.15.18//NONSGML v1.0//EN
CALSCALE:GREGORIAN
METHOD:PUBLISH
X-ORIGINAL-URL:https://rangefordvillages.co.uk
X-WR-CALDESC:Events for Rangeford Villages
REFRESH-INTERVAL;VALUE=DURATION:PT1H
X-Robots-Tag:noindex
X-PUBLISHED-TTL:PT1H
BEGIN:VTIMEZONE
TZID:Europe/London
BEGIN:DAYLIGHT
TZOFFSETFROM:+0000
TZOFFSETTO:+0100
TZNAME:BST
DTSTART:20250330T010000
END:DAYLIGHT
BEGIN:STANDARD
TZOFFSETFROM:+0100
TZOFFSETTO:+0000
TZNAME:GMT
DTSTART:20251026T010000
END:STANDARD
BEGIN:DAYLIGHT
TZOFFSETFROM:+0000
TZOFFSETTO:+0100
TZNAME:BST
DTSTART:20260329T010000
END:DAYLIGHT
BEGIN:STANDARD
TZOFFSETFROM:+0100
TZOFFSETTO:+0000
TZNAME:GMT
DTSTART:20261025T010000
END:STANDARD
BEGIN:DAYLIGHT
TZOFFSETFROM:+0000
TZOFFSETTO:+0100
TZNAME:BST
DTSTART:20270328T010000
END:DAYLIGHT
BEGIN:STANDARD
TZOFFSETFROM:+0100
TZOFFSETTO:+0000
TZNAME:GMT
DTSTART:20271031T010000
END:STANDARD
END:VTIMEZONE
BEGIN:VEVENT
DTSTART;TZID=Europe/London:20260605T120000
DTEND;TZID=Europe/London:20260605T170000
DTSTAMP:20260424T133646
CREATED:20260408T140203Z
LAST-MODIFIED:20260408T140203Z
UID:31310-1780660800-1780678800@rangefordvillages.co.uk
SUMMARY:Celebrate National Fish & Chips Day at Oak & Honey
DESCRIPTION:Join us on Friday 5th June as we mark National Fish & Chips Day with one of Britain’s best-loved classics. Enjoy perfectly cooked fish and crispy chips\, whether you choose to dine in or take away. \nEvent details:Date: Friday 5th JuneLocation: Oak & HoneyPrice: £12.50 takeaway | £16.50 dine in \nPre-booking is recommended for dine-in guests. To reserve your table or place an order\, please call 01932 629852. \nWe look forward to welcoming you.
URL:https://rangefordvillages.co.uk/event/fish-and-chips-day-oak-and-honey/
CATEGORIES:Homewood Grove
ATTACH;FMTTYPE=image/png:https://rangefordvillages.co.uk/wp-content/uploads/2026/04/3-scaled.png
END:VEVENT
END:VCALENDAR