BEGIN:VCALENDAR
VERSION:2.0
PRODID:-//Rangeford Villages - ECPv6.15.18//NONSGML v1.0//EN
CALSCALE:GREGORIAN
METHOD:PUBLISH
X-ORIGINAL-URL:https://rangefordvillages.co.uk
X-WR-CALDESC:Events for Rangeford Villages
REFRESH-INTERVAL;VALUE=DURATION:PT1H
X-Robots-Tag:noindex
X-PUBLISHED-TTL:PT1H
BEGIN:VTIMEZONE
TZID:Europe/London
BEGIN:DAYLIGHT
TZOFFSETFROM:+0000
TZOFFSETTO:+0100
TZNAME:BST
DTSTART:20250330T010000
END:DAYLIGHT
BEGIN:STANDARD
TZOFFSETFROM:+0100
TZOFFSETTO:+0000
TZNAME:GMT
DTSTART:20251026T010000
END:STANDARD
BEGIN:DAYLIGHT
TZOFFSETFROM:+0000
TZOFFSETTO:+0100
TZNAME:BST
DTSTART:20260329T010000
END:DAYLIGHT
BEGIN:STANDARD
TZOFFSETFROM:+0100
TZOFFSETTO:+0000
TZNAME:GMT
DTSTART:20261025T010000
END:STANDARD
BEGIN:DAYLIGHT
TZOFFSETFROM:+0000
TZOFFSETTO:+0100
TZNAME:BST
DTSTART:20270328T010000
END:DAYLIGHT
BEGIN:STANDARD
TZOFFSETFROM:+0100
TZOFFSETTO:+0000
TZNAME:GMT
DTSTART:20271031T010000
END:STANDARD
END:VTIMEZONE
BEGIN:VEVENT
DTSTART;TZID=Europe/London:20260512T170000
DTEND;TZID=Europe/London:20260512T200000
DTSTAMP:20260422T151748
CREATED:20260414T102338Z
LAST-MODIFIED:20260414T104220Z
UID:31366-1778605200-1778616000@rangefordvillages.co.uk
SUMMARY:Cocktail Masterclass at The Orangery
DESCRIPTION:Get into the spirit of World Cocktail Day at The Orangery\, Siddington Park with an exclusive cocktail masterclass on Tuesday 12th May. 🍸 \nJoin us for a relaxed and sociable evening where you’ll learn the art of crafting beautifully balanced cocktails\, guided by our expert team. \nIt’s the perfect opportunity to try something new\, pick up a few tricks\, and enjoy your creations in an elegant setting. \nPlease email theorangery@siddingtonpark.co.uk to reserve your place.
URL:https://rangefordvillages.co.uk/event/cocktail-masterclass-the-orangery/
CATEGORIES:Siddington Park
ATTACH;FMTTYPE=image/png:https://rangefordvillages.co.uk/wp-content/uploads/2026/04/Cocktail-1-1-scaled.png
END:VEVENT
END:VCALENDAR