BEGIN:VCALENDAR
VERSION:2.0
PRODID:-//Rangeford Villages - ECPv6.15.18//NONSGML v1.0//EN
CALSCALE:GREGORIAN
METHOD:PUBLISH
X-ORIGINAL-URL:https://rangefordvillages.co.uk
X-WR-CALDESC:Events for Rangeford Villages
REFRESH-INTERVAL;VALUE=DURATION:PT1H
X-Robots-Tag:noindex
X-PUBLISHED-TTL:PT1H
BEGIN:VTIMEZONE
TZID:Europe/London
BEGIN:DAYLIGHT
TZOFFSETFROM:+0000
TZOFFSETTO:+0100
TZNAME:BST
DTSTART:20250330T010000
END:DAYLIGHT
BEGIN:STANDARD
TZOFFSETFROM:+0100
TZOFFSETTO:+0000
TZNAME:GMT
DTSTART:20251026T010000
END:STANDARD
BEGIN:DAYLIGHT
TZOFFSETFROM:+0000
TZOFFSETTO:+0100
TZNAME:BST
DTSTART:20260329T010000
END:DAYLIGHT
BEGIN:STANDARD
TZOFFSETFROM:+0100
TZOFFSETTO:+0000
TZNAME:GMT
DTSTART:20261025T010000
END:STANDARD
BEGIN:DAYLIGHT
TZOFFSETFROM:+0000
TZOFFSETTO:+0100
TZNAME:BST
DTSTART:20270328T010000
END:DAYLIGHT
BEGIN:STANDARD
TZOFFSETFROM:+0100
TZOFFSETTO:+0000
TZNAME:GMT
DTSTART:20271031T010000
END:STANDARD
END:VTIMEZONE
BEGIN:VEVENT
DTSTART;TZID=Europe/London:20260508T143000
DTEND;TZID=Europe/London:20260508T170000
DTSTAMP:20260422T140050
CREATED:20260414T141525Z
LAST-MODIFIED:20260415T093207Z
UID:31375-1778250600-1778259600@rangefordvillages.co.uk
SUMMARY:Celebrate VE Day at Wild Thyme
DESCRIPTION:Join us at Wild Thyme\, Strawberry Fields as we mark VE Day with afternoon tea. Enjoy traditional favourites from our lunch menu or indulge in a classic afternoon tea\, served from 3:00pm – 6:00pm. \nWhether you’re joining us for lunch or a leisurely afternoon\, it’s a wonderful way to come together and commemorate this special occasion. \nDate: Friday 8th MayLocation: Wild Thyme\, Strawberry Fields Time: 2:30pm – 5:00pm \nPre-booking is required 24 hours in advance. Afternoon tea is £25PP. \nTo reserve your table\, please call 01223 826490 or email wildthyme@rangefordstrawberryfields.co.uk
URL:https://rangefordvillages.co.uk/event/celebrate-ve-day-at-wild-thyme/
CATEGORIES:Strawberry Fields
ATTACH;FMTTYPE=image/jpeg:https://rangefordvillages.co.uk/wp-content/uploads/2025/06/Wadswick-Green-Afternoon-Tea-Event-Image-Smaller.jpg
END:VEVENT
END:VCALENDAR