BEGIN:VCALENDAR
VERSION:2.0
PRODID:-//Rangeford Villages - ECPv6.15.18//NONSGML v1.0//EN
CALSCALE:GREGORIAN
METHOD:PUBLISH
X-ORIGINAL-URL:https://rangefordvillages.co.uk
X-WR-CALDESC:Events for Rangeford Villages
REFRESH-INTERVAL;VALUE=DURATION:PT1H
X-Robots-Tag:noindex
X-PUBLISHED-TTL:PT1H
BEGIN:VTIMEZONE
TZID:Europe/London
BEGIN:DAYLIGHT
TZOFFSETFROM:+0000
TZOFFSETTO:+0100
TZNAME:BST
DTSTART:20250330T010000
END:DAYLIGHT
BEGIN:STANDARD
TZOFFSETFROM:+0100
TZOFFSETTO:+0000
TZNAME:GMT
DTSTART:20251026T010000
END:STANDARD
BEGIN:DAYLIGHT
TZOFFSETFROM:+0000
TZOFFSETTO:+0100
TZNAME:BST
DTSTART:20260329T010000
END:DAYLIGHT
BEGIN:STANDARD
TZOFFSETFROM:+0100
TZOFFSETTO:+0000
TZNAME:GMT
DTSTART:20261025T010000
END:STANDARD
BEGIN:DAYLIGHT
TZOFFSETFROM:+0000
TZOFFSETTO:+0100
TZNAME:BST
DTSTART:20270328T010000
END:DAYLIGHT
BEGIN:STANDARD
TZOFFSETFROM:+0100
TZOFFSETTO:+0000
TZNAME:GMT
DTSTART:20271031T010000
END:STANDARD
END:VTIMEZONE
BEGIN:VEVENT
DTSTART;TZID=Europe/London:20260513T170000
DTEND;TZID=Europe/London:20260513T200000
DTSTAMP:20260424T102625
CREATED:20260414T095012Z
LAST-MODIFIED:20260414T095012Z
UID:31365-1778691600-1778702400@rangefordvillages.co.uk
SUMMARY:World Cocktail Day at The Greenhouse
DESCRIPTION:Join us at The Greenhouse\, Wadswick Green on 13th May as we raise a glass to World Cocktail Day 🍸 \nWhether you’re a fan of the classics or love discovering something new\, our full cocktail menu will be available alongside our featured Cocktail of the Month — the perfect excuse to indulge in something a little special. \nIf the weather is on our side\, take the celebrations outdoors and enjoy refreshing jugs or glasses of sangria and Pimm’s on the terrace\, soaking up the spring sunshine in a relaxed and sociable setting. \nA laid-back yet vibrant way to celebrate\, with great drinks\, great company\, and the perfect seasonal atmosphere. \n\nCall 01225 585880\, or email thegreenhouse@wadswickgreen.co.uk to book your table today!
URL:https://rangefordvillages.co.uk/event/world-cocktail-day-at-the-greenhouse/
CATEGORIES:Wadswick Green
ATTACH;FMTTYPE=image/png:https://rangefordvillages.co.uk/wp-content/uploads/2026/04/Cocktail-2--scaled.png
END:VEVENT
END:VCALENDAR