BEGIN:VCALENDAR
VERSION:2.0
PRODID:-//Rangeford Villages - ECPv6.15.18//NONSGML v1.0//EN
CALSCALE:GREGORIAN
METHOD:PUBLISH
X-WR-CALNAME:Rangeford Villages
X-ORIGINAL-URL:https://rangefordvillages.co.uk
X-WR-CALDESC:Events for Rangeford Villages
REFRESH-INTERVAL;VALUE=DURATION:PT1H
X-Robots-Tag:noindex
X-PUBLISHED-TTL:PT1H
BEGIN:VTIMEZONE
TZID:Europe/London
BEGIN:DAYLIGHT
TZOFFSETFROM:+0000
TZOFFSETTO:+0100
TZNAME:BST
DTSTART:20250330T010000
END:DAYLIGHT
BEGIN:STANDARD
TZOFFSETFROM:+0100
TZOFFSETTO:+0000
TZNAME:GMT
DTSTART:20251026T010000
END:STANDARD
BEGIN:DAYLIGHT
TZOFFSETFROM:+0000
TZOFFSETTO:+0100
TZNAME:BST
DTSTART:20260329T010000
END:DAYLIGHT
BEGIN:STANDARD
TZOFFSETFROM:+0100
TZOFFSETTO:+0000
TZNAME:GMT
DTSTART:20261025T010000
END:STANDARD
BEGIN:DAYLIGHT
TZOFFSETFROM:+0000
TZOFFSETTO:+0100
TZNAME:BST
DTSTART:20270328T010000
END:DAYLIGHT
BEGIN:STANDARD
TZOFFSETFROM:+0100
TZOFFSETTO:+0000
TZNAME:GMT
DTSTART:20271031T010000
END:STANDARD
END:VTIMEZONE
BEGIN:VEVENT
DTSTART;TZID=Europe/London:20260605T120000
DTEND;TZID=Europe/London:20260605T170000
DTSTAMP:20260423T145707
CREATED:20260408T140203Z
LAST-MODIFIED:20260408T140203Z
UID:31310-1780660800-1780678800@rangefordvillages.co.uk
SUMMARY:Celebrate National Fish & Chips Day at Oak & Honey
DESCRIPTION:Join us on Friday 5th June as we mark National Fish & Chips Day with one of Britain’s best-loved classics. Enjoy perfectly cooked fish and crispy chips\, whether you choose to dine in or take away. \nEvent details:Date: Friday 5th JuneLocation: Oak & HoneyPrice: £12.50 takeaway | £16.50 dine in \nPre-booking is recommended for dine-in guests. To reserve your table or place an order\, please call 01932 629852. \nWe look forward to welcoming you.
URL:https://rangefordvillages.co.uk/event/fish-and-chips-day-oak-and-honey/
CATEGORIES:Homewood Grove
ATTACH;FMTTYPE=image/png:https://rangefordvillages.co.uk/wp-content/uploads/2026/04/3-scaled.png
END:VEVENT
BEGIN:VEVENT
DTSTART;TZID=Europe/London:20260617T180000
DTEND;TZID=Europe/London:20260617T210000
DTSTAMP:20260423T145707
CREATED:20260414T141026Z
LAST-MODIFIED:20260414T141026Z
UID:31372-1781719200-1781730000@rangefordvillages.co.uk
SUMMARY:Quiz Night at The Orangery
DESCRIPTION:Put your knowledge to the test at The Orangery\, Siddington Park on 17th June with an evening of friendly competition and great company 🧠✨ \nJoin us for our quiz night\, where you can gather your team\, enjoy delicious food and drinks\, and take on a range of fun and engaging rounds. Whether you’re in it to win or just for the laughs\, it’s the perfect midweek social in a relaxed and welcoming setting. \nA brilliant way to bring people together — with a little healthy competition along the way.
URL:https://rangefordvillages.co.uk/event/quiz-night-at-the-orangery/
CATEGORIES:Siddington Park
ATTACH;FMTTYPE=image/png:https://rangefordvillages.co.uk/wp-content/uploads/2026/04/RV-Event-Banners-14-scaled.png
END:VEVENT
BEGIN:VEVENT
DTSTART;TZID=Europe/London:20260621T120000
DTEND;TZID=Europe/London:20260621T170000
DTSTAMP:20260423T145707
CREATED:20260414T135441Z
LAST-MODIFIED:20260414T135441Z
UID:31368-1782043200-1782061200@rangefordvillages.co.uk
SUMMARY:Celebrate Fathers Day At The Orangery
DESCRIPTION:Celebrate Father’s Day at The Orangery\, Siddington Park with a relaxed and indulgent dining experience 🍽️ \nJoin us on 21st June for a specially curated two or three-course menu\, featuring a hearty mixed roast — a true classic and perfect for the occasion. \nWhether you’re gathering with family or treating Dad to something special\, it’s a wonderful way to spend quality time together in a beautiful setting. \nTo make the day even more enjoyable\, all dads will receive a complimentary can of lager or ale to enjoy alongside their meal — the perfect finishing touch to a well-deserved celebration 🍺 \nA warm\, welcoming way to say thank you this Father’s Day.
URL:https://rangefordvillages.co.uk/event/celebrate-fathers-day-at-the-orangery/
CATEGORIES:Siddington Park
ATTACH;FMTTYPE=image/png:https://rangefordvillages.co.uk/wp-content/uploads/2026/04/17-scaled.png
END:VEVENT
BEGIN:VEVENT
DTSTART;TZID=Europe/London:20260621T120000
DTEND;TZID=Europe/London:20260621T170000
DTSTAMP:20260423T145707
CREATED:20260415T092852Z
LAST-MODIFIED:20260415T092852Z
UID:31380-1782043200-1782061200@rangefordvillages.co.uk
SUMMARY:Celebrate Fathers Day At Wild Thyme
DESCRIPTION:Celebrate Father’s Day with a relaxed and flavour-filled afternoon at Wild Thyme. Gather with family and enjoy a specially curated Sunday Roast menu\, designed to make the occasion feel truly special. \nFrom perfectly roasted meats to all the classic trimmings\, it’s the ideal way to treat Dad and spend quality time together in a warm\, welcoming setting. \nTime: 12:00pm – 5:00pm \nCall 01223 826490 or email wildthyme@rangefordstrawberryfields.co.uk to book your table today! \n 
URL:https://rangefordvillages.co.uk/event/celebrate-fathers-day-at-wild-thyme/
CATEGORIES:Strawberry Fields
ATTACH;FMTTYPE=image/png:https://rangefordvillages.co.uk/wp-content/uploads/2026/04/15-scaled.png
END:VEVENT
END:VCALENDAR