BEGIN:VCALENDAR
VERSION:2.0
PRODID:-//Rangeford Villages - ECPv6.15.18//NONSGML v1.0//EN
CALSCALE:GREGORIAN
METHOD:PUBLISH
X-ORIGINAL-URL:https://rangefordvillages.co.uk
X-WR-CALDESC:Events for Rangeford Villages
REFRESH-INTERVAL;VALUE=DURATION:PT1H
X-Robots-Tag:noindex
X-PUBLISHED-TTL:PT1H
BEGIN:VTIMEZONE
TZID:Europe/London
BEGIN:DAYLIGHT
TZOFFSETFROM:+0000
TZOFFSETTO:+0100
TZNAME:BST
DTSTART:20250330T010000
END:DAYLIGHT
BEGIN:STANDARD
TZOFFSETFROM:+0100
TZOFFSETTO:+0000
TZNAME:GMT
DTSTART:20251026T010000
END:STANDARD
BEGIN:DAYLIGHT
TZOFFSETFROM:+0000
TZOFFSETTO:+0100
TZNAME:BST
DTSTART:20260329T010000
END:DAYLIGHT
BEGIN:STANDARD
TZOFFSETFROM:+0100
TZOFFSETTO:+0000
TZNAME:GMT
DTSTART:20261025T010000
END:STANDARD
BEGIN:DAYLIGHT
TZOFFSETFROM:+0000
TZOFFSETTO:+0100
TZNAME:BST
DTSTART:20270328T010000
END:DAYLIGHT
BEGIN:STANDARD
TZOFFSETFROM:+0100
TZOFFSETTO:+0000
TZNAME:GMT
DTSTART:20271031T010000
END:STANDARD
END:VTIMEZONE
BEGIN:VEVENT
DTSTART;TZID=Europe/London:20260423T120000
DTEND;TZID=Europe/London:20260423T163000
DTSTAMP:20260423T145350
CREATED:20260414T142224Z
LAST-MODIFIED:20260414T143055Z
UID:31304-1776945600-1776961800@rangefordvillages.co.uk
SUMMARY:Celebrate St George’s Day at Oak & Honey
DESCRIPTION:Join us on Thursday 23rd April for a relaxed celebration of British seasonal dining at Oak & Honey. Our chefs have created a special selection of dishes from our spring menu\, showcasing fresh\, locally inspired flavours and classic favourites with a contemporary touch. \nWhether you’re joining us for a leisurely lunch or a midweek occasion with friends and family\, enjoy great food in a warm and welcoming setting. \nEvent details:Date: Thursday 23rd AprilTime: 12:00pm – 4:30pmLocation: Oak & Honey \nPre-booking is required. To reserve your table\, please call 01932 629852.
URL:https://rangefordvillages.co.uk/event/celebrate-st-georges-day-at-oak-honey/
CATEGORIES:Homewood Grove
ATTACH;FMTTYPE=image/jpeg:https://rangefordvillages.co.uk/wp-content/uploads/2024/03/DSC02545-scaled-e1727166254362.jpg
END:VEVENT
BEGIN:VEVENT
DTSTART;TZID=Europe/London:20260423T120000
DTEND;TZID=Europe/London:20260423T170000
DTSTAMP:20260423T145350
CREATED:20260414T094225Z
LAST-MODIFIED:20260414T094225Z
UID:31358-1776945600-1776963600@rangefordvillages.co.uk
SUMMARY:Celebrate St George's Day at The Greenhouse
DESCRIPTION:Celebrate St George’s Day with us at The Greenhouse\, Wadswick Green \nJoin us on 23rd April for a relaxed yet refined evening of great food\, local flavours\, and a touch of friendly competition. Begin your evening with a complimentary glass of locally sourced English sparkling wine\, before enjoying a delicious three-course meal\, thoughtfully prepared to mark the occasion. \nThroughout the day\, the bar will also be serving a selection of English wines and traditional cakes — perfect for a leisurely afternoon treat or pre-dinner indulgence. \nAs the evening unfolds\, put your knowledge to the test with our St George’s Day quiz — a light-hearted way to bring everyone together and round off the celebrations.
URL:https://rangefordvillages.co.uk/event/celebrate-st-georges-day-at-the-greenhouse/
CATEGORIES:Wadswick Green
ATTACH;FMTTYPE=image/png:https://rangefordvillages.co.uk/wp-content/uploads/2026/04/St-Georges-Day-scaled.png
END:VEVENT
BEGIN:VEVENT
DTSTART;TZID=Europe/London:20260423T120000
DTEND;TZID=Europe/London:20260423T170000
DTSTAMP:20260423T145350
CREATED:20260416T082431Z
LAST-MODIFIED:20260416T082431Z
UID:31385-1776945600-1776963600@rangefordvillages.co.uk
SUMMARY:Celebrate St George's Day at Wild Thyme
DESCRIPTION:Celebrate St George’s Day with us at Wild Thyme\, Strawberry Fields \nJoin us on 23rd April and enjoy a selection of British specials\, served alongside our all-day menu. \nFrom comforting classics to seasonal favourites\, it’s the perfect way to mark the occasion with delicious food in a warm and welcoming setting.
URL:https://rangefordvillages.co.uk/event/celebrate-st-georges-day-at-wild-thyme/
CATEGORIES:Strawberry Fields
ATTACH;FMTTYPE=image/png:https://rangefordvillages.co.uk/wp-content/uploads/2026/04/St-Georges-Day-scaled.png
END:VEVENT
END:VCALENDAR